BEGIN:VCALENDAR
VERSION:2.0
PRODID:-//Squarespace Inc/Squarespace 6//v6//EN
BEGIN:VEVENT
UID:59f6e84e9140b70add917e91@squarespace.com
DTSTAMP:20171030T085607Z
DTSTART:20171105T100000Z
DTEND:20171105T110000Z
SUMMARY:Guest on Plucked Strings\, 92.1FM
END:VEVENT
END:VCALENDAR
