BEGIN:VCALENDAR
VERSION:2.0
PRODID:-//Squarespace Inc/Squarespace 6//v6//EN
BEGIN:VEVENT
UID:5a1d80df652dea2e1acaa255@squarespace.com
DTSTAMP:20171128T153004Z
DTSTART:20171201T100000Z
DTEND:20171201T120000Z
SUMMARY:Guitar Duo @ Private Event
END:VEVENT
END:VCALENDAR
