BEGIN:VCALENDAR
VERSION:2.0
PRODID:-//Squarespace Inc/Squarespace 6//v6//EN
BEGIN:VEVENT
UID:5a1d81089140b7c3068cf5b4@squarespace.com
DTSTAMP:20171128T153215Z
DTSTART:20171202T030000Z
DTEND:20171202T060000Z
SUMMARY:Solo Guitar @ Bang and Olufsen
GEO:-31.952462;115.855152
LOCATION:Bang and Olufsen\, 26 King Street\, Perth\, Western Australia\, 60
 00\, Australia
END:VEVENT
END:VCALENDAR
