BEGIN:VCALENDAR
VERSION:2.0
PRODID:-//Squarespace Inc/Squarespace 6//v6//EN
BEGIN:VEVENT
UID:59f6e9310d9297f9ed788d88@squarespace.com
DTSTAMP:20171030T090129Z
DTSTART:20171202T100000Z
DTEND:20171202T123000Z
SUMMARY:WA Classical Guitar Society Orchestra Christmas Concert
GEO:-31.976608;115.820428
LOCATION:Callaway Music Auditorium\, UWA School of Music
END:VEVENT
END:VCALENDAR
