BEGIN:VCALENDAR
VERSION:2.0
PRODID:-//Squarespace Inc/Squarespace 6//v6//EN
BEGIN:VEVENT
UID:5a1d815dc83025aa86ced7ac@squarespace.com
DTSTAMP:20171128T153207Z
DTSTART:20171203T030000Z
DTEND:20171203T060000Z
SUMMARY:Solo Guitar @ Bang and Olufsen
GEO:-31.952462;115.855152
LOCATION:Bang and Olufsen\, 26 King St\, Perth\, Western Australia\, 6000\, 
 Australia
END:VEVENT
END:VCALENDAR
