BEGIN:VCALENDAR
VERSION:2.0
PRODID:-//Squarespace Inc/Squarespace 6//v6//EN
BEGIN:VEVENT
UID:5a2496080d9297cfbf91bae2@squarespace.com
DTSTAMP:20171204T004525Z
DTSTART:20180111T113000Z
DTEND:20180111T133000Z
SUMMARY:The Light on the Edge: a celebration of the life and works of Phill
 ip Houghton
GEO:-31.958686;115.877901
LOCATION:Braham Auditorium\, Trinity College\, Nelson Crescent\, East Perth
 \, WA\, 6004\, Australia
END:VEVENT
END:VCALENDAR
