BEGIN:VCALENDAR
VERSION:2.0
PRODID:-//Squarespace Inc/Squarespace 6//v6//EN
BEGIN:VEVENT
UID:5a504d95419202e324060792@squarespace.com
DTSTAMP:20180106T041721Z
DTSTART:20180107T100000Z
DTEND:20180107T110000Z
SUMMARY:Perth Guitar Quartet on Plucked Strings 92.1 RTRFM
END:VEVENT
END:VCALENDAR
