BEGIN:VCALENDAR
VERSION:2.0
PRODID:-//Squarespace Inc/Squarespace 6//v6//EN
BEGIN:VEVENT
UID:5bab57334785d3a421cbd8df@squarespace.com
DTSTAMP:20180926T095429Z
DTSTART:20181004T093000Z
DTEND:20181004T110000Z
SUMMARY:Private Function
END:VEVENT
END:VCALENDAR
