BEGIN:VCALENDAR
VERSION:2.0
PRODID:-//Squarespace Inc/Squarespace 6//v6//EN
BEGIN:VEVENT
UID:5a9c9475085229f6ca348186@squarespace.com
DTSTAMP:20180305T010300Z
DTSTART:20180311T073000Z
DTEND:20180311T083000Z
SUMMARY:Shake\, Rattle and Roll
GEO:-31.923441;115.788122
LOCATION:Marist Auditorium\, Newman College\, 216 Empire Avenue\, Churchlan
 ds\, WA\, 6018\, Australia
END:VEVENT
END:VCALENDAR
