BEGIN:VCALENDAR
VERSION:2.0
PRODID:-//Squarespace Inc/Squarespace 6//v6//EN
BEGIN:VEVENT
UID:5ab8a0eb0e2e720d9758a5ef@squarespace.com
DTSTAMP:20180326T072754Z
DTSTART:20180322T103000Z
DTEND:20180322T123000Z
SUMMARY:Maywood Guitar Duo @ Private Function
END:VEVENT
END:VCALENDAR
