BEGIN:VCALENDAR
VERSION:2.0
PRODID:-//Squarespace Inc/Squarespace 6//v6//EN
BEGIN:VEVENT
UID:5ab8a0836d2a730df031c7c7@squarespace.com
DTSTAMP:20180326T072716Z
DTSTART:20180413T093000Z
DTEND:20180413T123000Z
SUMMARY:Love Never Failed Us Yet: End Homelessness in WA
GEO:-31.952574;115.861049
LOCATION:Murray and Hay St Malls\, Perth\, WA\, 6000\, Australia
END:VEVENT
END:VCALENDAR
