BEGIN:VCALENDAR
VERSION:2.0
PRODID:-//Squarespace Inc/Squarespace 6//v6//EN
BEGIN:VEVENT
UID:5a3cbb85085229f1e1370690@squarespace.com
DTSTAMP:20180326T072416Z
DTSTART:20180420T113000Z
DTEND:20180420T133000Z
SUMMARY:Perth Guitar Quartet in Albany
GEO:-35.02624;117.880904
LOCATION:Wesley Church\, 12 Duke Street\, Albany\, WA\, 6330\, Australia
END:VEVENT
END:VCALENDAR
