BEGIN:VCALENDAR
VERSION:2.0
PRODID:-//Squarespace Inc/Squarespace 6//v6//EN
BEGIN:VEVENT
UID:5a69aa4d53450ac4bc58ba8f@squarespace.com
DTSTAMP:20180326T072540Z
DTSTART:20180421T060000Z
DTEND:20180421T080000Z
SUMMARY:Perth Guitar Quartet in Denmark
GEO:-34.959271;117.354257
LOCATION:Denmark Artshouse\, 2a Strickland Street\, Denmark\, WA\, 6333\, A
 ustralia
END:VEVENT
END:VCALENDAR
