BEGIN:VCALENDAR
VERSION:2.0
PRODID:-//Squarespace Inc/Squarespace 6//v6//EN
BEGIN:VEVENT
UID:5affe4f70e2e7216af9a8975@squarespace.com
DTSTAMP:20180519T090335Z
DTSTART:20180531T110000Z
DTEND:20180531T130000Z
SUMMARY:WAAPA: Landscapes of the Australian Guitar
GEO:-31.919328;115.869174
LOCATION:WAAPA Music Auditorium\, 2 Bradford Street\, Mount Lawley\, WA\, 6
 050\, Australia
END:VEVENT
END:VCALENDAR
