BEGIN:VCALENDAR
VERSION:2.0
PRODID:-//Squarespace Inc/Squarespace 6//v6//EN
BEGIN:VEVENT
UID:5affe4a32b6a285b3993cd40@squarespace.com
DTSTAMP:20180519T084820Z
DTSTART:20180617T090000Z
DTEND:20180617T110000Z
SUMMARY:Perth Guitar Quartet: Landscapes
GEO:-31.997446;115.764038
LOCATION:The Grove Library\, 1 Leake Street\, Peppermint Grove\, WA\, 6011\
 , Australia
END:VEVENT
END:VCALENDAR
