BEGIN:VCALENDAR
VERSION:2.0
PRODID:-//Squarespace Inc/Squarespace 6//v6//EN
BEGIN:VEVENT
UID:5b7a7836352f53632c9a2ac0@squarespace.com
DTSTAMP:20180820T081525Z
DTSTART:20180821T051000Z
DTEND:20180821T061000Z
SUMMARY:WAAPA: Guitar Lunchtime Concert
GEO:-31.920514;115.866181
LOCATION:WAAPA Music Auditorium\, 2 Bradford Street\, Mount Lawley\, WA\, A
 ustralia
END:VEVENT
END:VCALENDAR
