BEGIN:VCALENDAR
VERSION:2.0
PRODID:-//Squarespace Inc/Squarespace 6//v6//EN
BEGIN:VEVENT
UID:5a8eb629f9619ab663a84c5d@squarespace.com
DTSTAMP:20180222T122714Z
DTSTART:20180912T093000Z
DTEND:20180912T103000Z
SUMMARY:Perth International Guitar Festival Program Launch
GEO:-31.977701;115.810445
LOCATION:Callaway Auditorium\, UWA Conservatorium of Music\, 35 Stirling Hi
 ghway\, Perth\, WA\, 6009\, Australia
END:VEVENT
END:VCALENDAR
