BEGIN:VCALENDAR
VERSION:2.0
PRODID:-//Squarespace Inc/Squarespace 6//v6//EN
BEGIN:VEVENT
UID:5bab5719a4222f990f69de54@squarespace.com
DTSTAMP:20180926T095343Z
DTSTART:20180918T080000Z
DTEND:20180918T100000Z
SUMMARY:Private Function
END:VEVENT
END:VCALENDAR
