BEGIN:VCALENDAR
VERSION:2.0
PRODID:-//Squarespace Inc/Squarespace 6//v6//EN
BEGIN:VEVENT
UID:5dc680ad59401f781765b493@squarespace.com
DTSTAMP:20191109T090649Z
DTSTART:20191011T093000Z
DTEND:20191011T110000Z
SUMMARY:West Australian Guitar Festival: Classical Showcase Concert
GEO:-33.954107;115.067614
LOCATION:MRHeart Auditorium\, 51 Wallcliffe Road\, Margaret River\, WA\, 62
 85\, Australia
END:VEVENT
END:VCALENDAR
