BEGIN:VCALENDAR
VERSION:2.0
PRODID:-//Squarespace Inc/Squarespace 6//v6//EN
BEGIN:VEVENT
UID:5dc68041e8290d7830cd4a4f@squarespace.com
DTSTAMP:20191109T091322Z
DTSTART:20191011T050000Z
DTEND:20191011T073000Z
SUMMARY:West Australian Guitar Festival: High School Workshops
GEO:-33.954547;115.073848
LOCATION:Margaret River Senior High School\, 158 Bussell Highway\, Margaret 
 River\, WA\, 6285\, Australia
END:VEVENT
END:VCALENDAR
