BEGIN:VCALENDAR
VERSION:2.0
PRODID:-//Squarespace Inc/Squarespace 6//v6//EN
BEGIN:VEVENT
UID:5dc6810c7cdf127e99830aed@squarespace.com
DTSTAMP:20191109T090738Z
DTSTART:20191031T110000Z
DTEND:20191031T123000Z
SUMMARY:Parallel Resonance: A Piñata Percussion Co-Lab with the UWA Guitar 
 Studio
GEO:-32.05421;115.748263
LOCATION:Fremantle Town Hall\, 8 William Street\, Fremantle\, WA\, 6160\, A
 ustralia
END:VEVENT
END:VCALENDAR
