BEGIN:VCALENDAR
VERSION:2.0
PRODID:-//Squarespace Inc/Squarespace 6//v6//EN
BEGIN:VEVENT
UID:5dc67cfb7cdf127e9982e6e6@squarespace.com
DTSTAMP:20191109T091234Z
DTSTART:20191009T113000Z
DTEND:20191009T133000Z
SUMMARY:WAAPA: The Parisian Guitar
GEO:-31.920514;115.866181
LOCATION:Richard Gill Auditorium\, Western Australian Academy of Performing 
 Arts\, 2 Bradford Street\, Mount Lawley\, WA\, 6050\, Australia
END:VEVENT
END:VCALENDAR
