BEGIN:VCALENDAR
VERSION:2.0
PRODID:-//Squarespace Inc/Squarespace 6//v6//EN
BEGIN:VEVENT
UID:5dc68424b9580a7364e30057@squarespace.com
DTSTAMP:20191109T091815Z
DTSTART:20191121T093000Z
DTEND:20191121T113000Z
SUMMARY:Catholic Arts 30th Anniversary Celebration
END:VEVENT
END:VCALENDAR
