BEGIN:VCALENDAR
VERSION:2.0
PRODID:-//Squarespace Inc/Squarespace 6//v6//EN
BEGIN:VEVENT
UID:5ca897e3971a182374b0f154@squarespace.com
DTSTAMP:20190406T121344Z
DTSTART:20190330T073000Z
DTEND:20190330T083000Z
SUMMARY:Private Function
END:VEVENT
END:VCALENDAR
