BEGIN:VCALENDAR
VERSION:2.0
PRODID:-//Squarespace Inc/Squarespace 6//v6//EN
BEGIN:VEVENT
UID:5ca89801104c7bdabb0b2f95@squarespace.com
DTSTAMP:20190406T121811Z
DTSTART:20190516T113000Z
DTEND:20190516T123000Z
SUMMARY:WAAPA: From Beatles to Bowie
GEO:-31.920514;115.866181
LOCATION:Richard Gill Auditorium\, WAAPA\, 2 Bradford Street\, Mount Lawley
 \, WA\, 6050\, Australia
END:VEVENT
END:VCALENDAR
