BEGIN:VCALENDAR
VERSION:2.0
PRODID:-//Squarespace Inc/Squarespace 6//v6//EN
BEGIN:VEVENT
UID:5dc67b4be8290d7830cd170b@squarespace.com
DTSTAMP:20191109T090901Z
DTSTART:20190816T050000Z
DTEND:20190816T060000Z
SUMMARY:UWA: Guitar Lunchtime Concert
GEO:-31.977701;115.810445
LOCATION:Callaway Music Auditorium\, UWA Conservatorium of Music\, 35 Stirl
 ing Highway\, Perth\, WA\, 6009\, Australia
END:VEVENT
END:VCALENDAR
