BEGIN:VCALENDAR
VERSION:2.0
PRODID:-//Squarespace Inc/Squarespace 6//v6//EN
BEGIN:VEVENT
UID:5dc67b96af9d520b7a445916@squarespace.com
DTSTAMP:20191109T090939Z
DTSTART:20190820T050000Z
DTEND:20190820T060000Z
SUMMARY:WAAPA: Guitar Lunchtime Concert
GEO:-31.920514;115.866181
LOCATION:Richard Gill Auditorium\, Western Australian Academy of Performing 
 Arts\, 2 Bradford Street\, Mount Lawley\, WA\, 6050\, Australia
END:VEVENT
END:VCALENDAR
