BEGIN:VCALENDAR
VERSION:2.0
PRODID:-//Squarespace Inc/Squarespace 6//v6//EN
BEGIN:VEVENT
UID:5dc67c5ae8290d7830cd27a0@squarespace.com
DTSTAMP:20191109T084522Z
DTSTART:20190824T020000Z
DTEND:20190825T080000Z
SUMMARY:West Australian Guitar Ensemble Festival
GEO:-31.853852;115.777628
LOCATION:Carine Senior High School\, Everingham Street\, Carine\, WA\, 6020
 \, Australia
END:VEVENT
END:VCALENDAR
