BEGIN:VCALENDAR
VERSION:2.0
PRODID:-//Squarespace Inc/Squarespace 6//v6//EN
BEGIN:VEVENT
UID:5dc68349394ef27dc9917183@squarespace.com
DTSTAMP:20191109T091711Z
DTSTART:20190803T023000Z
DTEND:20190803T033000Z
SUMMARY:Presentation at the Guitar Perspectives Winter Conference (The Guit
 ar Century (c. 1880-1980): Global Trends and Local Contexts)
GEO:-37.823938;144.969388
LOCATION:Melbourne Conservatorium of Music\, 204-234 Saint Kilda Road\, Sou
 thbank\, VIC\, 3006\, Australia
END:VEVENT
END:VCALENDAR
