BEGIN:VCALENDAR
VERSION:2.0
PRODID:-//Squarespace Inc/Squarespace 6//v6//EN
BEGIN:VEVENT
UID:5dc67caadf818a4a741f652f@squarespace.com
DTSTAMP:20191109T090831Z
DTSTART:20190912T110000Z
DTEND:20190912T123000Z
SUMMARY:UWA: Accelerate! Guitars
GEO:-31.977701;115.810445
LOCATION:Callaway Music Auditorium\, UWA Conservatorium of Music\, 35 Stirl
 ing Highway\, Perth\, WA\, 6009\, Australia
END:VEVENT
END:VCALENDAR
